BEGIN:VCALENDAR
VERSION:2.0
PRODID:-//Slate Valley Trails - ECPv6.15.17.1//NONSGML v1.0//EN
CALSCALE:GREGORIAN
METHOD:PUBLISH
X-WR-CALNAME:Slate Valley Trails
X-ORIGINAL-URL:https://slatevalleytrails.org
X-WR-CALDESC:Events for Slate Valley Trails
REFRESH-INTERVAL;VALUE=DURATION:PT1H
X-Robots-Tag:noindex
X-PUBLISHED-TTL:PT1H
BEGIN:VTIMEZONE
TZID:America/New_York
BEGIN:DAYLIGHT
TZOFFSETFROM:-0500
TZOFFSETTO:-0400
TZNAME:EDT
DTSTART:20250309T070000
END:DAYLIGHT
BEGIN:STANDARD
TZOFFSETFROM:-0400
TZOFFSETTO:-0500
TZNAME:EST
DTSTART:20251102T060000
END:STANDARD
BEGIN:DAYLIGHT
TZOFFSETFROM:-0500
TZOFFSETTO:-0400
TZNAME:EDT
DTSTART:20260308T070000
END:DAYLIGHT
BEGIN:STANDARD
TZOFFSETFROM:-0400
TZOFFSETTO:-0500
TZNAME:EST
DTSTART:20261101T060000
END:STANDARD
BEGIN:DAYLIGHT
TZOFFSETFROM:-0500
TZOFFSETTO:-0400
TZNAME:EDT
DTSTART:20270314T070000
END:DAYLIGHT
BEGIN:STANDARD
TZOFFSETFROM:-0400
TZOFFSETTO:-0500
TZNAME:EST
DTSTART:20271107T060000
END:STANDARD
END:VTIMEZONE
BEGIN:VEVENT
DTSTART;TZID=America/New_York:20260522T180000
DTEND;TZID=America/New_York:20260522T220000
DTSTAMP:20260425T112127
CREATED:20260422T161344Z
LAST-MODIFIED:20260424T181022Z
UID:10000275-1779472800-1779487200@slatevalleytrails.org
SUMMARY:Members Party & Season Kick-Off
DESCRIPTION:🎉🌲 SVT Season Kick-Off Party! 🚴‍♀️🥾🍕|We’re kicking off trail season the best possible way — with bikes\, hikes\, pizza\, and good vibes with our friends\, Porcupine Bikes and the Trail House! \n✨ What’s Happening:🚴‍♀️ Group MTB Ride – Roll out at 6:00 PM for a group ride on some of Slate Valley’s finest trails.🥾 Family-Friendly Hike – Head out at 6:00 PM for a scenic group hike on the beautiful Lollipop Trail.🏃‍♀️Group Run- Group Run will roll out at 6:PM on SVT’s finest trails.🍕 Wood-Fired Pizza – Fresh hot slices starting at 7:30 PM (free for SVT members / cash donation for non-members) \n🍻 BYOB – Bring your favorite post-ride or post-hike beverage. \n💚 Cost: Free for SVT members (join today at slatevalleytrails.org) \n🎟️ RSVP by May 19 here->RSVP Season Opener \n🚗 Note: Parking is limited. Carpooling or riding your bike to the Trail House is highly encouraged and appreciated! \nCome celebrate the start of another great season with us! 🌲✨
URL:https://slatevalleytrails.org/calendar-event/members-party-season-kick-off/
LOCATION:785 Old Lake Rd\, Poultney\, VT\, United States
GEO:43.51701;-73.23622
END:VEVENT
END:VCALENDAR