BEGIN:VCALENDAR
VERSION:2.0
PRODID:-//Slate Valley Trails - ECPv6.15.17.1//NONSGML v1.0//EN
CALSCALE:GREGORIAN
METHOD:PUBLISH
X-WR-CALNAME:Slate Valley Trails
X-ORIGINAL-URL:https://slatevalleytrails.org
X-WR-CALDESC:Events for Slate Valley Trails
REFRESH-INTERVAL;VALUE=DURATION:PT1H
X-Robots-Tag:noindex
X-PUBLISHED-TTL:PT1H
BEGIN:VTIMEZONE
TZID:America/New_York
BEGIN:DAYLIGHT
TZOFFSETFROM:-0500
TZOFFSETTO:-0400
TZNAME:EDT
DTSTART:20250309T070000
END:DAYLIGHT
BEGIN:STANDARD
TZOFFSETFROM:-0400
TZOFFSETTO:-0500
TZNAME:EST
DTSTART:20251102T060000
END:STANDARD
BEGIN:DAYLIGHT
TZOFFSETFROM:-0500
TZOFFSETTO:-0400
TZNAME:EDT
DTSTART:20260308T070000
END:DAYLIGHT
BEGIN:STANDARD
TZOFFSETFROM:-0400
TZOFFSETTO:-0500
TZNAME:EST
DTSTART:20261101T060000
END:STANDARD
BEGIN:DAYLIGHT
TZOFFSETFROM:-0500
TZOFFSETTO:-0400
TZNAME:EDT
DTSTART:20270314T070000
END:DAYLIGHT
BEGIN:STANDARD
TZOFFSETFROM:-0400
TZOFFSETTO:-0500
TZNAME:EST
DTSTART:20271107T060000
END:STANDARD
END:VTIMEZONE
BEGIN:VEVENT
DTSTART;TZID=America/New_York:20260828T180000
DTEND;TZID=America/New_York:20260828T203000
DTSTAMP:20260425T075348
CREATED:20260422T161348Z
LAST-MODIFIED:20260424T181026Z
UID:10000335-1787940000-1787949000@slatevalleytrails.org
SUMMARY:Porcupine Bikes Group Mountain Bike Ride
DESCRIPTION:Please join SVT and Porcupine Bikes (Main St.\, Poultney) for our Friday Night Trail Ride series. Rides start at 6pm from the designated meeting spot.  Please come early and be ready for kickstands up at 6pm.\nAll ability levels are welcome\, and we’ll look to break into faster/mellower pace groups as needed. Expect to ride for a couple hours.\nQuestions?  Email porcupinebikes@gmail.com
URL:https://slatevalleytrails.org/calendar-event/porcupine-bikes-group-mountain-bike-ride-6/
LOCATION:Endless Brook Road\, 201 Endless Brook Rd\, Poultney\, VT\, United States
GEO:43.473227;-73.193829
X-APPLE-STRUCTURED-LOCATION;VALUE=URI;X-ADDRESS=Endless Brook Road 201 Endless Brook Rd Poultney VT United States;X-APPLE-RADIUS=500;X-TITLE=201 Endless Brook Rd:geo:-73.193829,43.473227
END:VEVENT
END:VCALENDAR