BEGIN:VCALENDAR
VERSION:2.0
PRODID:-//Slate Valley Trails - ECPv6.15.17.1//NONSGML v1.0//EN
CALSCALE:GREGORIAN
METHOD:PUBLISH
X-ORIGINAL-URL:https://slatevalleytrails.org
X-WR-CALDESC:Events for Slate Valley Trails
REFRESH-INTERVAL;VALUE=DURATION:PT1H
X-Robots-Tag:noindex
X-PUBLISHED-TTL:PT1H
BEGIN:VTIMEZONE
TZID:America/New_York
BEGIN:DAYLIGHT
TZOFFSETFROM:-0500
TZOFFSETTO:-0400
TZNAME:EDT
DTSTART:20250309T070000
END:DAYLIGHT
BEGIN:STANDARD
TZOFFSETFROM:-0400
TZOFFSETTO:-0500
TZNAME:EST
DTSTART:20251102T060000
END:STANDARD
BEGIN:DAYLIGHT
TZOFFSETFROM:-0500
TZOFFSETTO:-0400
TZNAME:EDT
DTSTART:20260308T070000
END:DAYLIGHT
BEGIN:STANDARD
TZOFFSETFROM:-0400
TZOFFSETTO:-0500
TZNAME:EST
DTSTART:20261101T060000
END:STANDARD
BEGIN:DAYLIGHT
TZOFFSETFROM:-0500
TZOFFSETTO:-0400
TZNAME:EDT
DTSTART:20270314T070000
END:DAYLIGHT
BEGIN:STANDARD
TZOFFSETFROM:-0400
TZOFFSETTO:-0500
TZNAME:EST
DTSTART:20271107T060000
END:STANDARD
END:VTIMEZONE
BEGIN:VEVENT
DTSTART;TZID=America/New_York:20260807T180000
DTEND;TZID=America/New_York:20260807T203000
DTSTAMP:20260424T211234
CREATED:20260422T161347Z
LAST-MODIFIED:20260424T181025Z
UID:10000324-1786125600-1786134600@slatevalleytrails.org
SUMMARY:Porcupine Bikes Group Gravel Ride
DESCRIPTION:Please join SVT and Porcupine Bikes (Main St.\, Poultney) for our Friday Night Gravel Ride series. Rides start at 6pm from Porcupine Bikes. Please come early and be ready for kickstands up at 6pm.\nAll ability levels are welcome\, and we’ll look to break into faster/mellower pace groups as needed. Expect to ride for at least a couple hours.\nQuestions- please email: porcupinebikes@gmail.com
URL:https://slatevalleytrails.org/calendar-event/porcupine-bikes-group-gravel-ride-6/
LOCATION:Porcupine Bikes\, 144 Main St\, Poultney\, VT\, United States
GEO:43.517133;-73.23546
X-APPLE-STRUCTURED-LOCATION;VALUE=URI;X-ADDRESS=Porcupine Bikes 144 Main St Poultney VT United States;X-APPLE-RADIUS=500;X-TITLE=144 Main St:geo:-73.23546,43.517133
END:VEVENT
BEGIN:VEVENT
DTSTART;TZID=America/New_York:20260821T180000
DTEND;TZID=America/New_York:20260821T203000
DTSTAMP:20260424T211234
CREATED:20260422T161348Z
LAST-MODIFIED:20260424T181026Z
UID:10000331-1787335200-1787344200@slatevalleytrails.org
SUMMARY:Porcupine Bikes Group Gravel Ride
DESCRIPTION:Please join SVT and Porcupine Bikes (Main St.\, Poultney) for our Friday Night Gravel Ride series. Rides start at 6pm from Porcupine Bikes. Please come early and be ready for kickstands up at 6pm.\nAll ability levels are welcome\, and we’ll look to break into faster/mellower pace groups as needed. Expect to ride for at least a couple hours.\nQuestions- please email: porcupinebikes@gmail.com
URL:https://slatevalleytrails.org/calendar-event/porcupine-bikes-group-gravel-ride-7/
LOCATION:Porcupine Bikes\, 144 Main St\, Poultney\, VT\, United States
GEO:43.517133;-73.23546
X-APPLE-STRUCTURED-LOCATION;VALUE=URI;X-ADDRESS=Porcupine Bikes 144 Main St Poultney VT United States;X-APPLE-RADIUS=500;X-TITLE=144 Main St:geo:-73.23546,43.517133
END:VEVENT
END:VCALENDAR